BEGIN:VCALENDAR
VERSION:2.0
PRODID:Events Booking
BEGIN:VEVENT
UID:69e76ffa615d0
SUMMARY:Association evening
DESCRIPTION:self study week fun.
LOCATION:Aan de Rijn\, Wageningen\, 6701PB Gelderland\, Netherlands
DTSTART:20260423T153000Z
DTEND:20260423T210000Z
DTSTAMP:20260420T140715Z
ORGANIZER;CN=Activities WSZV Aqua:MAILTO:webevents@wszvaqua.nl
GEO:51.958012;5.672936
X-APPLE-STRUCTURED-LOCATION;VALUE=URI;X-ADDRESS=Aan de Rijn\, Wageningen\, 
 6701PB Gelderland\, Netherlands;X-APPLE-RADIUS=72;X-TITLE=Waterscouting Mu
 singa-Rijn:51.958012;5.672936
END:VEVENT
END:VCALENDAR