BEGIN:VCALENDAR
VERSION:2.0
PRODID:Events Booking
BEGIN:VEVENT
UID:69e94eaccc229
SUMMARY:Training Weekend powered by SWU Thymos!
DESCRIPTION:Want to improve your sailing skills? Is it your dream to become
  a prominent Aqua skipper? Then the ZeilCie got the weekend for you! Our a
 nnual TrainingWeekend is the perfect opportunity to hone your skills and t
 ake the next step. Both sailing days will be dedicated to trianing\, so it
  is a bit more serious than the regular Aqua weekends.
 Thanks as always 
 to the wonderful SWU Thymos for providing sponsoring this weekend.Skippers
  giving instruction get a 16 euro discount for their services.a
DTSTART:20260529T153000Z
DTEND:20260531T210000Z
DTSTAMP:20260422T145905Z
ORGANIZER;CN=Activities WSZV Aqua:MAILTO:webevents@wszvaqua.nl
END:VEVENT
END:VCALENDAR